BEGIN:VCALENDAR
VERSION:2.0
PRODID:-//81.169.145.77//NONSGML kigkonsult.se iCalcreator 2.20//
CALSCALE:GREGORIAN
METHOD:PUBLISH
X-WR-TIMEZONE:UTC
BEGIN:VEVENT
UID:event394@PSV Senftenberg
DTSTAMP:20260421T145151Z
CATEGORIES:Sonstiges
DESCRIPTION:Mitgliederversammlung\nKategorie: Sonstiges\nICS-Link: https://
 psv-senftenberg-judo.de/cms/index.php?option=com_jem&view=event&id=394:mit
 gliederversammlung\n
DTSTART;VALUE=DATE:20221216
DTEND;VALUE=DATE:20221217
LOCATION:Sporthalle Senftenberg\,Senftenberg
SUMMARY:Mitgliederversammlung
URL:https://psv-senftenberg-judo.de/cms/index.php?option=com_jem&view=event
 &id=394:mitgliederversammlung
END:VEVENT
END:VCALENDAR
