BEGIN:VCALENDAR
VERSION:2.0
PRODID:-//81.169.145.77//NONSGML kigkonsult.se iCalcreator 2.20//
CALSCALE:GREGORIAN
METHOD:PUBLISH
X-WR-TIMEZONE:UTC
BEGIN:VEVENT
UID:event465@PSV Senftenberg
DTSTAMP:20260423T112104Z
CATEGORIES:Turnier
DESCRIPTION:Anfängerturnier U7\, U9\nKategorie: Turnier\nICS-Link: https://
 psv-senftenberg-judo.de/cms/index.php?option=com_jem&view=event&id=465:anf
 aengerturnier-grossraeschen-u7-u9\n
DTSTART;VALUE=DATE:20260510
DTEND;VALUE=DATE:20260511
LOCATION:Sporthalle Großräschen\,Großräschen
SUMMARY:Anfängerturnier U7\, U9
URL:https://psv-senftenberg-judo.de/cms/index.php?option=com_jem&view=event
 &id=465:anfaengerturnier-grossraeschen-u7-u9
END:VEVENT
END:VCALENDAR
