BEGIN:VCALENDAR
VERSION:2.0
PRODID:-//81.169.145.77//NONSGML kigkonsult.se iCalcreator 2.20//
CALSCALE:GREGORIAN
METHOD:PUBLISH
X-WR-TIMEZONE:UTC
BEGIN:VEVENT
UID:event466@PSV Senftenberg
DTSTAMP:20260423T111410Z
CATEGORIES:Turnier
DESCRIPTION:Sumo-Turnier\nKategorie: Turnier\nICS-Link: https://psv-senften
 berg-judo.de/cms/index.php?option=com_jem&view=event&id=466:sumo-turnier\n
DTSTART;VALUE=DATE:20260606
DTEND;VALUE=DATE:20260607
LOCATION:Sporthalle Großräschen\,Großräschen
SUMMARY:Sumo-Turnier
URL:https://psv-senftenberg-judo.de/cms/index.php?option=com_jem&view=event
 &id=466:sumo-turnier
END:VEVENT
END:VCALENDAR
