BEGIN:VCALENDAR
VERSION:2.0
PRODID:-//81.169.145.77//NONSGML kigkonsult.se iCalcreator 2.20//
CALSCALE:GREGORIAN
METHOD:PUBLISH
X-WR-TIMEZONE:UTC
BEGIN:VEVENT
UID:event467@PSV Senftenberg
DTSTAMP:20260423T111854Z
CATEGORIES:Wettkampf
DESCRIPTION:Pokal der Optik U9-U15\nKategorie: Wettkampf\nICS-Link: https:/
 /psv-senftenberg-judo.de/cms/index.php?option=com_jem&view=event&id=467:po
 kal-der-optik-u9-u15\n
DTSTART;VALUE=DATE:20260606
DTEND;VALUE=DATE:20260607
LOCATION:Rathenow\,Rathenow\,Germany
SUMMARY:Pokal der Optik U9-U15
URL:https://psv-senftenberg-judo.de/cms/index.php?option=com_jem&view=event
 &id=467:pokal-der-optik-u9-u15
END:VEVENT
BEGIN:VEVENT
UID:event468@PSV Senftenberg
DTSTAMP:20260423T111854Z
CATEGORIES:Wettkampf
DESCRIPTION:Pokal der Optik Veteranen\nKategorie: Wettkampf\nICS-Link: http
 s://psv-senftenberg-judo.de/cms/index.php?option=com_jem&view=event&id=468
 :pokal-der-optik-veteranen\n
DTSTART;VALUE=DATE:20260607
DTEND;VALUE=DATE:20260608
LOCATION:Rathenow\,Rathenow\,Germany
SUMMARY:Pokal der Optik Veteranen
URL:https://psv-senftenberg-judo.de/cms/index.php?option=com_jem&view=event
 &id=468:pokal-der-optik-veteranen
END:VEVENT
END:VCALENDAR
